BEGIN:VCALENDAR
VERSION:2.0
PRODID:-//Ski Club Klosters - ECPv6.15.20//NONSGML v1.0//EN
CALSCALE:GREGORIAN
METHOD:PUBLISH
X-WR-CALNAME:Ski Club Klosters
X-ORIGINAL-URL:https://skiclub-klosters.ch
X-WR-CALDESC:Veranstaltungen für Ski Club Klosters
REFRESH-INTERVAL;VALUE=DURATION:PT1H
X-Robots-Tag:noindex
X-PUBLISHED-TTL:PT1H
BEGIN:VTIMEZONE
TZID:Europe/Berlin
BEGIN:DAYLIGHT
TZOFFSETFROM:+0100
TZOFFSETTO:+0200
TZNAME:CEST
DTSTART:20250330T010000
END:DAYLIGHT
BEGIN:STANDARD
TZOFFSETFROM:+0200
TZOFFSETTO:+0100
TZNAME:CET
DTSTART:20251026T010000
END:STANDARD
BEGIN:DAYLIGHT
TZOFFSETFROM:+0100
TZOFFSETTO:+0200
TZNAME:CEST
DTSTART:20260329T010000
END:DAYLIGHT
BEGIN:STANDARD
TZOFFSETFROM:+0200
TZOFFSETTO:+0100
TZNAME:CET
DTSTART:20261025T010000
END:STANDARD
BEGIN:DAYLIGHT
TZOFFSETFROM:+0100
TZOFFSETTO:+0200
TZNAME:CEST
DTSTART:20270328T010000
END:DAYLIGHT
BEGIN:STANDARD
TZOFFSETFROM:+0200
TZOFFSETTO:+0100
TZNAME:CET
DTSTART:20271031T010000
END:STANDARD
END:VTIMEZONE
BEGIN:VEVENT
DTSTART;TZID=Europe/Berlin:20260620T110000
DTEND;TZID=Europe/Berlin:20260620T233000
DTSTAMP:20260420T032343
CREATED:20251120T213558Z
LAST-MODIFIED:20251120T213558Z
UID:5485-1781953200-1781998200@skiclub-klosters.ch
SUMMARY:Sommerfest 2026
DESCRIPTION:
URL:https://skiclub-klosters.ch/event/sommerfest-2026/
LOCATION:Silvrettapark
END:VEVENT
BEGIN:VEVENT
DTSTART;VALUE=DATE:20260725
DTEND;VALUE=DATE:20260726
DTSTAMP:20260420T032343
CREATED:20251120T213720Z
LAST-MODIFIED:20251120T213720Z
UID:5488-1784937600-1785023999@skiclub-klosters.ch
SUMMARY:Davos X-Trails – Silver Run Klosters – Davos
DESCRIPTION:
URL:https://skiclub-klosters.ch/event/davos-x-trails-silver-run-klosters-davos/
END:VEVENT
BEGIN:VEVENT
DTSTART;TZID=Europe/Berlin:20261024T200000
DTEND;TZID=Europe/Berlin:20261024T220000
DTSTAMP:20260420T032343
CREATED:20251120T213852Z
LAST-MODIFIED:20251120T213852Z
UID:5490-1792872000-1792879200@skiclub-klosters.ch
SUMMARY:GV 2026 SkiClub Klosters
DESCRIPTION:
URL:https://skiclub-klosters.ch/event/gv-2026-skiclub-klosters/
LOCATION:Teehütte Selfranga
END:VEVENT
END:VCALENDAR